BEGIN:VCALENDAR
VERSION:2.0
PRODID:-//Parque Cultural Casa do Governador - ECPv6.15.17//NONSGML v1.0//EN
CALSCALE:GREGORIAN
METHOD:PUBLISH
X-ORIGINAL-URL:https://parquecasadogovernador.com.br
X-WR-CALDESC:Eventos para Parque Cultural Casa do Governador
REFRESH-INTERVAL;VALUE=DURATION:PT1H
X-Robots-Tag:noindex
X-PUBLISHED-TTL:PT1H
BEGIN:VTIMEZONE
TZID:UTC
BEGIN:STANDARD
TZOFFSETFROM:+0000
TZOFFSETTO:+0000
TZNAME:UTC
DTSTART:20240101T000000
END:STANDARD
END:VTIMEZONE
BEGIN:VEVENT
DTSTART;TZID=UTC:20251103T080000
DTEND;TZID=UTC:20251103T170000
DTSTAMP:20260420T013335
CREATED:20240603T145432Z
LAST-MODIFIED:20250220T154231Z
UID:5754-1762156800-1762189200@parquecasadogovernador.com.br
SUMMARY:Exploring the Universe's Greatest Mysteries
DESCRIPTION:Embark on a cosmic adventure as we investigate the most profound and perplexing mysteries of the universe. From the existence of extraterrestrial civilizations to the enigma of black holes\, this event features engaging presentations\, thought-provoking discussions\, and cutting-edge research. Renowned scientists and researchers will share their insights and discoveries\, offering attendees a deep dive into the unknown.
URL:https://parquecasadogovernador.com.br/event/exploring-the-universes-greatest-mysteries/
CATEGORIES:Alien
END:VEVENT
BEGIN:VEVENT
DTSTART;TZID=UTC:20251103T080000
DTEND;TZID=UTC:20251103T170000
DTSTAMP:20260420T013335
CREATED:20240603T145432Z
LAST-MODIFIED:20240603T145432Z
UID:6600-1762156800-1762189200@parquecasadogovernador.com.br
SUMMARY:Exploring the Universe's Greatest Mysteries
DESCRIPTION:Embark on a cosmic adventure as we investigate the most profound and perplexing mysteries of the universe. From the existence of extraterrestrial civilizations to the enigma of black holes\, this event features engaging presentations\, thought-provoking discussions\, and cutting-edge research. Renowned scientists and researchers will share their insights and discoveries\, offering attendees a deep dive into the unknown.
URL:https://parquecasadogovernador.com.br/event/exploring-the-universes-greatest-mysteries-2/
CATEGORIES:Alien
END:VEVENT
BEGIN:VEVENT
DTSTART;TZID=UTC:20251103T080000
DTEND;TZID=UTC:20251103T170000
DTSTAMP:20260420T013335
CREATED:20240603T145432Z
LAST-MODIFIED:20240603T145432Z
UID:6631-1762156800-1762189200@parquecasadogovernador.com.br
SUMMARY:Exploring the Universe's Greatest Mysteries
DESCRIPTION:Embark on a cosmic adventure as we investigate the most profound and perplexing mysteries of the universe. From the existence of extraterrestrial civilizations to the enigma of black holes\, this event features engaging presentations\, thought-provoking discussions\, and cutting-edge research. Renowned scientists and researchers will share their insights and discoveries\, offering attendees a deep dive into the unknown.
URL:https://parquecasadogovernador.com.br/event/exploring-the-universes-greatest-mysteries-4/
CATEGORIES:Alien
END:VEVENT
BEGIN:VEVENT
DTSTART;TZID=UTC:20251103T080000
DTEND;TZID=UTC:20251103T170000
DTSTAMP:20260420T013335
CREATED:20240603T145432Z
LAST-MODIFIED:20240603T145432Z
UID:6653-1762156800-1762189200@parquecasadogovernador.com.br
SUMMARY:Exploring the Universe's Greatest Mysteries
DESCRIPTION:Embark on a cosmic adventure as we investigate the most profound and perplexing mysteries of the universe. From the existence of extraterrestrial civilizations to the enigma of black holes\, this event features engaging presentations\, thought-provoking discussions\, and cutting-edge research. Renowned scientists and researchers will share their insights and discoveries\, offering attendees a deep dive into the unknown.
URL:https://parquecasadogovernador.com.br/event/exploring-the-universes-greatest-mysteries-5/
CATEGORIES:Alien
END:VEVENT
END:VCALENDAR